BEGIN:VCALENDAR
VERSION:2.0
PRODID:-//Extinction Rebellion Boston//Action//
BEGIN:VEVENT
SUMMARY:No New Fossil Fuel Infrastructure Twitter Storm and Call-in
DTSTART:20230210T180000Z
DTEND:20230210T200000Z
DTSTAMP:20260422T101504Z
UID:1431@https://xrboston.org
CREATED:20260422T101504Z
DESCRIPTION:Join online: <a href="https://twitter.com/XRBoston">https://tw
 itter.com/XRBoston</a>\n\nEvent details: <a href="https://xrboston.org/act
 ion/nnffi-twitter-storm-and-call-in/">https://xrboston.org/action/nnffi-tw
 itter-storm-and-call-in/</a>\n\nJoin us Friday 2/10 at 1 pm for a Twitter 
 storm and call-in to demand that the MA government ban new fossil fuel inf
 rastructure and cancel existing projects. Please RSVP. Use this sheet with
  example tweets\, photos\, government accounts to tweet at\, and a list of
  hash tags: https://docs.google.com/document/d/1B8XFh8Iph0-PTMi1m3IZ7RrN9m
 02tUa2tvMrv5wAbRg/edit\n\nWe will also call government officials at this t
 ime. The above document includes a prepared script and phone number(s) to 
 leave a voice mail at.\n\n-::~:~::~:~:~:~:~:~:~:~:~:~:~:~:~:~:~:~:~:~:~:~:
 ~:~:~:~:~:~:~:~:~:~:~:~:~:~:~:~::~:~::-\nDo not edit this section of the d
 escription.\n\nThis event has a video call.\nJoin: https://twitter.com/XRB
 oston\n\nView your event at https://xrboston.org/action/nnffi-twitter-stor
 m-and-call-in/\n-::~:~::~:~:~:~:~:~:~:~:~:~:~:~:~:~:~:~:~:~:~:~:~:~:~:~:~:
 ~:~:~:~:~:~:~:~:~:~:~::~:~::-
LAST-MODIFIED:20230210T162500Z
LOCATION:Online event
ORGANIZER;CN="Extinction Rebellion Boston":MAILTO:outreach@xrboston.org
URL:https://xrboston.org/action/nnffi-twitter-storm-and-call-in/
END:VEVENT
END:VCALENDAR
