BEGIN:VCALENDAR
VERSION:2.0
PRODID:-//Extinction Rebellion Boston//Action//
BEGIN:VEVENT
SUMMARY:No Chocolate Eggs on a Dead Planet: Rabbits on Strike for Climate!
DTSTART:20220413T154500Z
DTEND:20220413T174500Z
DTSTAMP:20260420T205252Z
UID:1141@https://xrboston.org
CREATED:20260420T205252Z
DESCRIPTION:Event details: https://xrboston.org/action/no-chocolate-eggs-o
 n-a-dead-planet-rabbits-on-stri/\n\nThis Easter season join Rabbits on Str
 ike for Climate\, Wed. April 13\, 2022\, Lunch time\, 11:45-1:15. Meet at 
 Dewey Square Plaza by South Station. Wear your bunny costume\, fleece duck
 ling onesie or Easter egg sandwich board. We will hand out IPCC report Eas
 ter eggs in the financial district to investors on lunch break. We will en
 courage divestment from fossil fuels and investment in renewable energy fo
 r a livable future.\n\nPlease RSVP by filling out this form: [RSVP for Rab
 bits on Strike for Climate](https://forms.gle/DRMXbLJWT7CatD7x9)
LAST-MODIFIED:20220408T192952Z
LOCATION:Dewey Square Plaza by South Station
ORGANIZER;CN="Extinction Rebellion Boston":MAILTO:outreach@xrboston.org
URL:https://xrboston.org/action/no-chocolate-eggs-on-a-dead-planet-rabbits
 -on-stri/
END:VEVENT
END:VCALENDAR
