BEGIN:VCALENDAR
VERSION:2.0
PRODID:-//Extinction Rebellion Boston//Action//
BEGIN:VEVENT
SUMMARY:[solidarity] #noeastiesubstation rally at the statehouse
DTSTART:20230412T200000Z
DTEND:20230412T220000Z
DTSTAMP:20260421T120711Z
UID:1487@https://xrboston.org
CREATED:20260421T120711Z
DESCRIPTION:Event details: https://xrboston.org/action/noeastiesubstationr
 ally/\n\nJoin us in rallying at the State House against Eversource’s dan
 gerous high voltage substation. April 12 marks the 3-month anniversary of 
 the beginning of the substation’s construction\, directly going against 
 the voices and votes of almost 84% of Bostonians and our continued protest
 s. Police response to our neighborhood’s outcry has been unjust and unwa
 rranted\, but we will not back down. Stand with Eastie residents as we con
 tinue to demand that Gov. Healey say #NoEastieSubstation!\n\nPor favor una
 se a nosotros en la manifestación contra la peligrosa subestación de alt
 o voltaje de Eversource. Estaremos enfrente de la Casa del Estado el 12 de
  Abril a las 4pm. \n\nEl 12 de abril marca el aniversario de 3 meses del i
 nicio de la construcción de la subestación\, yendo directamente en contr
 a de las voces y votos de casi el 84% de los east bostonianos y tambien nu
 estras continuas protestas. La respuesta de la policía al clamor de nuest
 ro vecindario ha sido injusta e injustificada\, pero no retrocederemos. ¡
 Apoyenos ha nosotros los residentes de Eastie mientras continuamos exigien
 do que la Gobernadora Maura Healey cumpla con su promesa que nos hiso ha n
 ostros y que diga #NoEastieSubstation! Como lo prometio que lo iba hacer.
LAST-MODIFIED:20230410T180958Z
LOCATION:Massachusetts State House\, 24 Beacon St\, Boston\, MA 02133
ORGANIZER;CN="Extinction Rebellion Boston":MAILTO:outreach@xrboston.org
URL:https://xrboston.org/action/noeastiesubstationrally/
END:VEVENT
END:VCALENDAR
