BEGIN:VCALENDAR
VERSION:2.0
PRODID:-//Extinction Rebellion Boston//Action//
BEGIN:VEVENT
SUMMARY:November Climate Grief Circle
DTSTART:20231129T230000Z
DTEND:20231130T010000Z
DTSTAMP:20260425T105104Z
UID:1664@https://xrboston.org
CREATED:20260425T105104Z
DESCRIPTION:Join online: <a href="https://us02web.zoom.us/meeting/register
 /tZcrfuqhrz4vHdyrtVhEwwJYtuGMRS10TeUr">https://us02web.zoom.us/meeting/reg
 ister/tZcrfuqhrz4vHdyrtVhEwwJYtuGMRS10TeUr</a>\n\nEvent details: <a href="
 https://xrboston.org/action/november-climate-grief-circle-2023/">https://x
 rboston.org/action/november-climate-grief-circle-2023/</a>\n\nYou are welc
 ome in this monthly circle\, where we contact and work with our climate gr
 ief. We are all experiencing so many losses because of the climate crisis\
 , including extinction\, displacement\, loss of livelihood\, and irrevocab
 le changes to beloved places. Our resulting grief can show up in many diff
 erent ways\, such as numbness\, bitterness\, and despair. However your gri
 ef shows up\, you are welcome in this space. We believe that working with 
 grief requires support\, and that is what we aim to provide. What’s more
 \, we trust that when we engage with our grief in a supported way\, we fin
 d that we no longer need to be afraid of it\, and that frees us up to show
  up in service and love for the communities that we hold dear. \n\nWith ge
 ntle facilitation and simple prompts\, we will move through reflection and
  sharing that will get us out of our heads and into our hearts\, where our
  grief and our love for this world reside. This 75-minute circle is open t
 o all\, whether you are a seasoned rebel or brand-new to XR.\n\n[RSVP here
 ](https://us02web.zoom.us/meeting/register/tZcrfuqhrz4vHdyrtVhEwwJYtuGMRS1
 0TeUr)\n\n-::~:~::~:~:~:~:~:~:~:~:~:~:~:~:~:~:~:~:~:~:~:~:~:~:~:~:~:~:~:~:
 ~:~:~:~:~:~:~:~::~:~::-\nDo not edit this section of the description.\n\nT
 his event has a video call.\nJoin: https://us02web.zoom.us/meeting/registe
 r/tZcrfuqhrz4vHdyrtVhEwwJYtuGMRS10TeUr\n\nView your event at https://xrbos
 ton.org/action/november-climate-grief-circle-2023/\n-::~:~::~:~:~:~:~:~:~:
 ~:~:~:~:~:~:~:~:~:~:~:~:~:~:~:~:~:~:~:~:~:~:~:~:~:~:~:~:~::~:~::-
LAST-MODIFIED:20231103T203329Z
LOCATION:Online event
ORGANIZER;CN="Extinction Rebellion Boston":MAILTO:outreach@xrboston.org
URL:https://xrboston.org/action/november-climate-grief-circle-2023/
END:VEVENT
END:VCALENDAR
