BEGIN:VCALENDAR
VERSION:2.0
PRODID:-//Extinction Rebellion Boston//Action//
BEGIN:VEVENT
SUMMARY:Non-violent Direct Action Training
DTSTART:20260415T230000Z
DTEND:20260416T010000Z
DTSTAMP:20260425T022226Z
UID:2247@https://xrboston.org
CREATED:20260425T022226Z
DESCRIPTION:Join online: <a href="https://meet.jit.si/XRNVDATrainingApril2
 026">https://meet.jit.si/XRNVDATrainingApril2026</a>\n\nEvent details: <a 
 href="https://xrboston.org/action/nvda-april15/">https://xrboston.org/acti
 on/nvda-april15/</a>\n\nLearn how to take part in XR actions at this non-v
 iolent direct action training! This training is for people who are interes
 ted in potentially doing civil disobedience as well as people who want to 
 play support roles for our actions. You will learn how to engage in non-vi
 olent civil disobedience. \n\nWe will cover some theory behind direct acti
 ons\, discuss the logistics of arrest and potential legal implications\, a
 nd talk about the many different roles (beyond risking arrest) that are cr
 ucial to successful actions. You will get to talk to a few people who have
  gone through the arrest process and ask questions you might have. \n\nWe 
 recommend that you attend an XR Welcome Call before you attend our NVDA tr
 aining\, or soon thereafter. We recommend this training because understand
 ing more about XR's theory of change and organizing principles will help y
 ou figure out how you'd like to be involved.\n\nThis training will last 90
  minutes.\n\n-::~:~::~:~:~:~:~:~:~:~:~:~:~:~:~:~:~:~:~:~:~:~:~:~:~:~:~:~:~
 :~:~:~:~:~:~:~:~:~::~:~::-\nDo not edit this section of the description.\n
 \nThis event has a video call.\nJoin: https://meet.jit.si/XRNVDATrainingAp
 ril2026\n\nView your event at https://xrboston.org/action/nvda-april15/\n-
 ::~:~::~:~:~:~:~:~:~:~:~:~:~:~:~:~:~:~:~:~:~:~:~:~:~:~:~:~:~:~:~:~:~:~:~:~
 :~:~::~:~::-
LAST-MODIFIED:20260416T220722Z
LOCATION:Online event
ORGANIZER;CN="Extinction Rebellion Boston":MAILTO:outreach@xrboston.org
URL:https://xrboston.org/action/nvda-april15/
END:VEVENT
END:VCALENDAR
