BEGIN:VCALENDAR
VERSION:2.0
PRODID:-//Extinction Rebellion Boston//Action//
BEGIN:VEVENT
SUMMARY:Non-violent Direct Action Training - in person
DTSTART:20260503T170000Z
DTEND:20260503T190000Z
DTSTAMP:20260424T065157Z
UID:2248@https://xrboston.org
CREATED:20260424T065157Z
DESCRIPTION:Event details: https://xrboston.org/action/nvda-may3/\n\nLearn
  how to take part in XR actions at this non-violent direct action training
 ! This training is for people who are interested in potentially doing civi
 l disobedience as well as people who want to play support roles for our ac
 tions. You will learn how to engage in non-violent civil disobedience. \n\
 nWe will cover some theory behind direct actions\, discuss the logistics o
 f arrest and potential legal implications\, and talk about the many differ
 ent roles (beyond risking arrest) that are crucial to successful actions. 
 You will get to talk to a few people who have gone through the arrest proc
 ess and ask questions you might have. \n\nWe recommend that you attend an 
 XR Welcome Call before you attend our NVDA training. We recommend this tra
 ining because understanding more about XR's theory of change and organizin
 g principles will help you figure out how you'd like to be involved.\n\nTh
 is training will last two hours.
LAST-MODIFIED:20260423T124608Z
LOCATION:[Assembly Staples - 165 Middlesex Ave](https://www.google.com/map
 s/place/165+Middlesex+Ave\,+Somerville\,+MA+02145/data=!4m2!3m1!1s0x89e371
 278378edd1:0x8259640c641406b2?sa=X&ved=1t:242&ictx=111)
ORGANIZER;CN="Extinction Rebellion Boston":MAILTO:outreach@xrboston.org
URL:https://xrboston.org/action/nvda-may3/
END:VEVENT
END:VCALENDAR
