BEGIN:VCALENDAR
VERSION:2.0
PRODID:-//Extinction Rebellion Boston//Action//
BEGIN:VEVENT
SUMMARY:[Solidarity Action] Awakening For Earth: Active Hope Training
DTSTART:20220206T153000Z
DTEND:20220206T173000Z
DTSTAMP:20260425T035551Z
UID:1026@https://xrboston.org
CREATED:20260425T035551Z
DESCRIPTION:Join online: <a href="https://us02web.zoom.us/j/85379287753?pw
 d=Tkl0K09VaHhmTFBIOEd3QlM1U3Y3Zz09">https://us02web.zoom.us/j/85379287753?
 pwd=Tkl0K09VaHhmTFBIOEd3QlM1U3Y3Zz09</a>\n\nEvent details: <a href="https:
 //xrboston.org/action/online-meditation-awakening-for-earth/">https://xrbo
 ston.org/action/online-meditation-awakening-for-earth/</a>\n\nJoin [Awaken
 ing For Earth](awakeningforearth.com) for [Active Hope training](https://a
 ctivehope.training). This is the third of seven trainings. Feel free to co
 me even if you missed previous weeks.\n\nActive Hope is a training designe
 d by Joanna Macy and Chris Johnstone to strengthen our ability to make a d
 ifference in the world. Awakening For Earth will dedicate seven ‘Sitting
  for Survival’ Sundays to explore this training together.\n\nJoin us as 
 we learn ways to nourish our capacity to face the many challenges of our t
 ime…from systemic racism to ecological destruction.\n\nIf you want to le
 arn more about this work\, you are encouraged to subscribe to the free Act
 ive Hope training\, or just drop in and check it out with us! The training
  is designed to be flexible so we’re seeing this as a community explorat
 ion.\n\n-----\n\n*Purifying our hearts of greed\, hatred\, and delusion\, 
 we bless each other and generate a communal power and resilience that can 
 effectively meet the daunting challenges that threaten our world.*\n--Kitt
 isaro \n\n**When:** Every Sunday\, January 23-March 6\, 10:30am-12noon\n\n
 **Where:** Recurring[ zoom link here](https://us02web.zoom.us/j/8537928775
 3?pwd=Tkl0K09VaHhmTFBIOEd3QlM1U3Y3Zz09)\nMeeting ID: 853 7928 7753 Passcod
 e: 304404\n\nYou can also sign up for their mailing list at awakeningforea
 rth.com.\n\n-::~:~::~:~:~:~:~:~:~:~:~:~:~:~:~:~:~:~:~:~:~:~:~:~:~:~:~:~:~:
 ~:~:~:~:~:~:~:~:~::~:~::-\nDo not edit this section of the description.\n\
 nThis event has a video call.\nJoin: https://us02web.zoom.us/j/85379287753
 ?pwd=Tkl0K09VaHhmTFBIOEd3QlM1U3Y3Zz09\n\nView your event at https://xrbost
 on.org/action/online-meditation-awakening-for-earth/\n-::~:~::~:~:~:~:~:~:
 ~:~:~:~:~:~:~:~:~:~:~:~:~:~:~:~:~:~:~:~:~:~:~:~:~:~:~:~:~:~::~:~::-
LAST-MODIFIED:20220117T213015Z
LOCATION:Online event
ORGANIZER;CN="Extinction Rebellion Boston":MAILTO:outreach@xrboston.org
URL:https://xrboston.org/action/online-meditation-awakening-for-earth/
END:VEVENT
END:VCALENDAR
