BEGIN:VCALENDAR
VERSION:2.0
PRODID:-//Extinction Rebellion Boston//Action//
BEGIN:VEVENT
SUMMARY:Extinction Rebellion Orientation
DTSTART:20200804T230000Z
DTEND:20200805T010000Z
DTSTAMP:20260425T234546Z
UID:449@https://xrboston.org
CREATED:20260425T234546Z
DESCRIPTION:Event details: https://xrboston.org/action/orientation-2020-08
 -04/\n\nIf you are new to Extinction Rebellion or would just like to learn
  more about how it works\, please join us a conversation about who we are 
 and how we do our work.\n\nWe will cover the following:\n\n- What is XR? W
 hat is civil disobedience & direct action?\n\n- What are we trying to achi
 eve?\n\n- What are our principles and values?\n\n- How are we organized?\n
 \n- Learn how you can get involved!\n\nThe session will run for around 90 
 minutes. Please sign up below. You will receive an invite to the Zoom meet
 ing closer to the date of the event.
LAST-MODIFIED:20200705T222704Z
LOCATION:Online
ORGANIZER;CN="Extinction Rebellion Boston":MAILTO:outreach@xrboston.org
URL:https://xrboston.org/action/orientation-2020-08-04/
END:VEVENT
END:VCALENDAR
