BEGIN:VCALENDAR
VERSION:2.0
PRODID:-//Extinction Rebellion Boston//Action//
BEGIN:VEVENT
SUMMARY:[Solidarity Action] Awakening For Earth: Outdoor Meditation in New
 buryport
DTSTART:20211205T170000Z
DTEND:20211205T190000Z
DTSTAMP:20260421T100210Z
UID:945@https://xrboston.org
CREATED:20260421T100210Z
DESCRIPTION:Event details: https://xrboston.org/action/outdoor-meditation-
 newburyport/\n\n[Awakening For Earth](awakeningforearth.com) started a new
  chapter in Newburyport\, MA!\n\nResidents of Newburyport will be holding 
 Sitting for Survival meditations to bear witness to our current climate em
 ergency and in doing so\, strive to awaken others to see and take action.\
 n\n**Where: ** 22 Market Sq\, Newburyport\, MA 01950\n\n**When: ** Every o
 ther Sunday from 12 - 12:45PM\n\nWe will sit distanced with signs that we 
 will provide or you can bring your own. Please come masked.\n\n-----\n\n**
 Who We Are:**\nWe are spiritual practitioners dedicated to facing the clim
 ate crisis with compassion and determination to engage in nonviolent direc
 t action. We see climate justice within the framework of social justice an
 d commit to advocating for policies that empower communities most impacted
  by climate change.\n\n**What We Do:**\nWe invoke our mindfulness practice
  to hold the pain of this ecological and spiritual crisis. We bring silent
  sitting and walking meditation to public spaces to raise awareness to the
  devastating effects of our planetary emergency and the urgent need to tak
 e personal and collective action.\nRecognizing the need for regeneration i
 n this consuming effort\, we invite pauses to be in community\, to care fo
 r one another and nourish ourselves\, bringing the energy of love and unde
 rstanding to sustain this demanding effort.\n\nDuring the pandemic\, we ha
 ve been working towards our goals through virtual gatherings. As the days 
 get warmer\, we are now doing a combination of outdoor protest and virtual
  regenerative practice.\n\nIf you're interested in learning more about us\
 , check out our website https://www.awakeingforearth.com or to get more in
 volved\, feel free to e-mail us at awakeningforearth@gmail.com
LAST-MODIFIED:20211205T150317Z
LOCATION:22 Market Sq\, Newburyport\, MA 01950
ORGANIZER;CN="Extinction Rebellion Boston":MAILTO:outreach@xrboston.org
URL:https://xrboston.org/action/outdoor-meditation-newburyport/
END:VEVENT
END:VCALENDAR
