BEGIN:VCALENDAR
VERSION:2.0
PRODID:-//Extinction Rebellion Boston//Action//
BEGIN:VEVENT
SUMMARY:Outreach: Lunchtime canvassing
DTSTART:20230410T163000Z
DTEND:20230410T183000Z
DTSTAMP:20260421T120445Z
UID:1477@https://xrboston.org
CREATED:20260421T120445Z
DESCRIPTION:Event details: https://xrboston.org/action/outreach-lunchtime-
 canvassing-3/\n\nCome on out and chat with folks out on their lunch break!
  We will be handing out flyers and engaging with public in conversation ab
 out the climate crisis\, promoting our Earth Day event.\n\nThis is decent-
 weather-dependent. Terrible weather cancels. RSVP to get last-minute updat
 es!
LAST-MODIFIED:20230410T131354Z
LOCATION:Dewey Square
ORGANIZER;CN="Extinction Rebellion Boston":MAILTO:outreach@xrboston.org
URL:https://xrboston.org/action/outreach-lunchtime-canvassing-3/
END:VEVENT
END:VCALENDAR
