BEGIN:VCALENDAR
VERSION:2.0
PRODID:-//Extinction Rebellion Boston//Action//
BEGIN:VEVENT
SUMMARY:Outreach "The Catalyst" Book Talk
DTSTART:20240312T230000Z
DTEND:20240313T010000Z
DTSTAMP:20260425T164532Z
UID:1750@https://xrboston.org
CREATED:20260425T164532Z
DESCRIPTION:Join online: <a href="https://us06web.zoom.us/j/89313883766?pw
 d=7AR9BqBnfQ3UI2NVSt6aydxVzUccCn.1">https://us06web.zoom.us/j/89313883766?
 pwd=7AR9BqBnfQ3UI2NVSt6aydxVzUccCn.1</a>\n\nEvent details: <a href="https:
 //xrboston.org/action/outreach-the-catalyst-book-talk/">https://xrboston.o
 rg/action/outreach-the-catalyst-book-talk/</a>\n\nJonah Berger's book "The
  Catalyst: How to Change Anyone's Mind" identifies the key barriers to cha
 nge and how to mitigate them. We will meet on zoom for a 1.5 hr presentati
 on of the concepts within the book and discuss how to apply these concepts
  to XR Boston's goals and activities. \nYou do not have to read the book t
 o join the discussion! The talk will cover the books core concepts.\n\n-::
 ~:~::~:~:~:~:~:~:~:~:~:~:~:~:~:~:~:~:~:~:~:~:~:~:~:~:~:~:~:~:~:~:~:~:~:~:~
 :~::~:~::-\nDo not edit this section of the description.\n\nThis event has
  a video call.\nJoin: https://us06web.zoom.us/j/89313883766?pwd=7AR9BqBnfQ
 3UI2NVSt6aydxVzUccCn.1\n\nView your event at https://xrboston.org/action/o
 utreach-the-catalyst-book-talk/\n-::~:~::~:~:~:~:~:~:~:~:~:~:~:~:~:~:~:~:~
 :~:~:~:~:~:~:~:~:~:~:~:~:~:~:~:~:~:~:~::~:~::-
LAST-MODIFIED:20240302T210507Z
LOCATION:Online event
ORGANIZER;CN="Extinction Rebellion Boston":MAILTO:outreach@xrboston.org
URL:https://xrboston.org/action/outreach-the-catalyst-book-talk/
END:VEVENT
END:VCALENDAR
