BEGIN:VCALENDAR
VERSION:2.0
PRODID:-//Extinction Rebellion Boston//Action//
BEGIN:VEVENT
SUMMARY:Palestine Affinity Group Community Meeting
DTSTART:20250907T180000Z
DTEND:20250907T200000Z
DTSTAMP:20260421T230430Z
UID:2141@https://xrboston.org
CREATED:20260421T230430Z
DESCRIPTION:Event details: https://xrboston.org/action/palestine-affinity-
 group-community-meeting-sept25/\n\nCome join the Palestine Affinity Group 
 for an in-person community meeting - we will discuss current events\, soli
 darity with Palestine\, and how to show up within the movement. As the gen
 ocide in Gaza continues\, those of us concerned with climate justice\, fre
 edoms\, and human rights come together to continue this important work. Jo
 in us! (snacks will be provided)
LAST-MODIFIED:20250901T225026Z
LOCATION:Community Church of Boston\, Copley Square
ORGANIZER;CN="Extinction Rebellion Boston":MAILTO:outreach@xrboston.org
URL:https://xrboston.org/action/palestine-affinity-group-community-meeting
 -sept25/
END:VEVENT
END:VCALENDAR
