BEGIN:VCALENDAR
VERSION:2.0
PRODID:-//Extinction Rebellion Boston//Action//
BEGIN:VEVENT
SUMMARY:NEW DATE - People's Assembly for 2026 Strategy
DTSTART:20260222T213000Z
DTEND:20260222T233000Z
DTSTAMP:20260421T153046Z
UID:2203@https://xrboston.org
CREATED:20260421T153046Z
DESCRIPTION:Event details: https://xrboston.org/action/peoples-assembly-fo
 r-2026-strategy/\n\n### Calling all XR Members! Come be a part of our 2026
  Strategy People's Assembly!\n\nThe meeting will begin at 4:30 at the Comm
 unity Church of Boston at 565 Boylston St\, Boston. Please try to **arrive
  15 mins early** so that we can start promptly at 4:30. Pizza dinner will 
 be served afterwards\, so **please RSVP so we have an accurate headcount. 
 **\n\nAt this meeting\, we will be discussing our 2025 strategy doc and de
 briefing the past year\, reflecting on what has worked well that we'd like
  to continue\, what has not been serving the organization that we want to 
 rethink\, and how we can improve our organization's structure and support 
 systems. We will present some data on the past year as well as report back
  themes from our affinity and working groups to seed the conversation. \n\
 nAll chapter members are welcome\, but particularly active members of work
 ing groups and affinity groups are highly encouraged to attend. We want th
 e folks who are putting in the work to further our demands to determine th
 e focuses and strategy.
LAST-MODIFIED:20260201T170449Z
LOCATION:565 Boylston St\, Boston\, MA 02116
ORGANIZER;CN="Extinction Rebellion Boston":MAILTO:outreach@xrboston.org
URL:https://xrboston.org/action/peoples-assembly-for-2026-strategy/
END:VEVENT
END:VCALENDAR
