BEGIN:VCALENDAR
VERSION:2.0
PRODID:-//Extinction Rebellion Boston//Action//
BEGIN:VEVENT
SUMMARY:Planning Meeting: Monthly Die-Ins
DTSTART:20220614T213000Z
DTEND:20220614T233000Z
DTSTAMP:20260420T192824Z
UID:1205@https://xrboston.org
CREATED:20260420T192824Z
DESCRIPTION:Event details: https://xrboston.org/action/planning-meeting-mo
 nthly-die-ins/\n\nJoin us to help planning the continuation of the monthly
  die-ins\, which is an effective tool to raise awareness about the worst e
 ffects of the climate crisis. If you are a newbie or a weathered participa
 nt\, please join the meeting to decide on the future of the die-in series.
  Please sign up below to receive all the meeting details!
LAST-MODIFIED:20220609T190245Z
LOCATION:zoom
ORGANIZER;CN="Extinction Rebellion Boston":MAILTO:outreach@xrboston.org
URL:https://xrboston.org/action/planning-meeting-monthly-die-ins/
END:VEVENT
END:VCALENDAR
