BEGIN:VCALENDAR
VERSION:2.0
PRODID:-//Extinction Rebellion Boston//Action//
BEGIN:VEVENT
SUMMARY:Plant Pollinators with Mashpee Wampanoag Tribe
DTSTART:20250723T130000Z
DTEND:20250723T150000Z
DTSTAMP:20260421T082806Z
UID:2124@https://xrboston.org
CREATED:20260421T082806Z
DESCRIPTION:Event details: https://xrboston.org/action/plant-pollinators-m
 ashpee-wampanoag-tribe/\n\n**Plant for Pollinators with GNaturalists Affin
 ity Group and Mashpee Wampanoag Tribe with Youth at Preserving our Homelan
 ds (POH) Camp**\n\nJoin us for a unique and impactful event that brings to
 gether the GNaturalists Affinity Group\, members the Mashpee Wampanoag Tri
 be\, and youth from the Preserving our Homelands (POH) Camp to plant for p
 ollinators and promote environmental stewardship.\n\n**The Importance of P
 ollinators**\n\nPollinators\, such as bees\, butterflies\, and hummingbird
 s\, play a vital role in maintaining the health of our ecosystem. By plant
 ing pollinator-friendly plants\, we can help support these vital species a
 nd promote environmental sustainability.\n\n**The Intersection of Climate 
 Justice and Indigenous Rights**\n\nThe Mashpee Wampanoag Tribe has been at
  the forefront of climate justice efforts\, advocating for the protection 
 of their ancestral lands and cultural heritage. This event highlights the 
 importance of centering Indigenous voices and perspectives in environmenta
 l decision-making.\n\n**Join the Movement**\n\nJoin us for this unique ful
 l-day event (9am-3pm) and be part of a movement that is working towards a 
 more sustainable future. Please contact us if you need a ride or would lik
 e to carpool.
LAST-MODIFIED:20250721T141428Z
LOCATION:TBA
ORGANIZER;CN="Extinction Rebellion Boston":MAILTO:outreach@xrboston.org
URL:https://xrboston.org/action/plant-pollinators-mashpee-wampanoag-tribe/
END:VEVENT
END:VCALENDAR
