BEGIN:VCALENDAR
VERSION:2.0
PRODID:-//Extinction Rebellion Boston//Action//
BEGIN:VEVENT
SUMMARY:Potluck and Art Build @ Spontaneous Celebrations!
DTSTART:20240412T223000Z
DTEND:20240413T003000Z
DTSTAMP:20260425T182037Z
UID:1784@https://xrboston.org
CREATED:20260425T182037Z
DESCRIPTION:Event details: https://xrboston.org/action/potluck-and-art-bui
 ld-spontaneous-celebrations4-12/\n\nOn Friday\, 4/12\, come build art and 
 banners for Earth Day (4/22) and Wake up the Earth with XR Boston and Spon
 taneous Celebrations! Break bread and build art- what could be better?  Br
 ing your creativity\, climate justice slogans\, and a dish to share!  \n\n
 Art materials provided. Bring cardboard for signs if you can! \n\nArt buil
 ding starts at 6:30pm\, potluck at 7pm.
LAST-MODIFIED:20240411T012729Z
LOCATION:45 Danforth St.\, Jamaica Plain\, 02130
ORGANIZER;CN="Extinction Rebellion Boston":MAILTO:outreach@xrboston.org
URL:https://xrboston.org/action/potluck-and-art-build-spontaneous-celebrat
 ions4-12/
END:VEVENT
END:VCALENDAR
