BEGIN:VCALENDAR
VERSION:2.0
PRODID:-//Extinction Rebellion Boston//Action//
BEGIN:VEVENT
SUMMARY:Primavera Postering at Revere Beach
DTSTART:20240320T230000Z
DTEND:20240321T010000Z
DTSTAMP:20260425T164726Z
UID:1768@https://xrboston.org
CREATED:20260425T164726Z
DESCRIPTION:Event details: https://xrboston.org/action/primavera-postering
 -at-revere-beach/\n\nJoin our Chelsea/Eastie/Everett/Revere affinity group
  at Revere Beach Station on the Blue Line on Wednesday\, March 20 for stic
 kering/postering. Bring comfortable shoes\, we'll be walking the neighborh
 ood. This is a great opportunity to meet like-minded folks in the area and
  get involved!\n\nWeather-dependent: we will shift to a local Beers and Cl
 imate Change if raining (meet at Revere Station\, destination location TBD
 )
LAST-MODIFIED:20240318T061045Z
LOCATION:220 Shirley Ave\, Revere\, MA 02151
ORGANIZER;CN="Extinction Rebellion Boston":MAILTO:outreach@xrboston.org
URL:https://xrboston.org/action/primavera-postering-at-revere-beach/
END:VEVENT
END:VCALENDAR
