BEGIN:VCALENDAR
VERSION:2.0
PRODID:-//Extinction Rebellion Boston//Action//
BEGIN:VEVENT
SUMMARY:Queer Voices in the Climate Movement
DTSTART:20221012T230000Z
DTEND:20221013T010000Z
DTSTAMP:20260420T085413Z
UID:1287@https://xrboston.org
CREATED:20260420T085413Z
DESCRIPTION:Event details: https://xrboston.org/action/queer-voices/\n\n##
  How queer people are affected by the climate crisis and poised to combat 
 it!\n\n* Recent climate science: What is the reality of our current projec
 tions? How does this affect the queer community?\n* Climate action: What c
 an we do about it? How do our personal choices and our activism make a dif
 ference? What is non-violent direct action (NVDA)?\n* Climate\, Racial\, a
 nd Social Justice: What is Climate Justice and how does it relate to racia
 l and social justice? How can we support the intersectionalities of climat
 e justice?\n* LGBTQ representation in social movements: How has the queer 
 community had to come together to effect change in the past? What uniquene
 ss does the queer community bring to the activism space?\n* \nThis event w
 ill be a queer-focused discussion on the climate crisis and climate activi
 sm\, but is open to everyone. Please invite any queer or non-queer friends
  you think may be interested. :)\n\nWith Love and Rage
LAST-MODIFIED:20221010T123906Z
LOCATION:https://us02web.zoom.us/j/85694295444?pwd=emI1c2hUMHhNODhJc0w4OHh
 Kaysxdz09
ORGANIZER;CN="Extinction Rebellion Boston":MAILTO:outreach@xrboston.org
URL:https://xrboston.org/action/queer-voices/
END:VEVENT
END:VCALENDAR
