BEGIN:VCALENDAR
VERSION:2.0
PRODID:-//Extinction Rebellion Boston//Action//
BEGIN:VEVENT
SUMMARY:Rat City Rebels Affinity Group - Brunch & Postering
DTSTART:20250413T143000Z
DTEND:20250413T163000Z
DTSTAMP:20260424T043950Z
UID:2058@https://xrboston.org
CREATED:20260424T043950Z
DESCRIPTION:Event details: https://xrboston.org/action/rat-city-rebels-apr
 il13/\n\nJOIN THE RAT CITY REBELS\n\nDo you live in Allston\, Brighton\, B
 rookline\, or Fenway? Be part of the Rat City Rebels\, an affinity group t
 aking a stand against fascism and the climate crisis! We meet monthly to p
 lan local actions that convey the urgency of the climate and ecological em
 ergencies.\n\nJoin us for brunch on Sunday\, April 13th\, at 10:30 AM at H
 obson's Bar & Grill in Allston (353 Cambridge Street) to connect with fell
 ow rebels and make some plans! Afterward\, we’ll hit the streets to post
  flyers for XR's "United We Rage!" march (4/26). (Please note everyone wil
 l be responsible for purchasing their own food and drinks.)\n\nIf you can 
 make it\, please sign up below. Can’t make it this time? Email outreach@
 xrboston.org to join the Rat City Rebels.
LAST-MODIFIED:20250404T122015Z
LOCATION:Hobson's Bar & Grill in Allston\, 353 Cambridge Street
ORGANIZER;CN="Extinction Rebellion Boston":MAILTO:outreach@xrboston.org
URL:https://xrboston.org/action/rat-city-rebels-april13/
END:VEVENT
END:VCALENDAR
