BEGIN:VCALENDAR
VERSION:2.0
PRODID:-//Extinction Rebellion Boston//Action//
BEGIN:VEVENT
SUMMARY:Rat City Rebels Affinity Group Gathering
DTSTART:20250810T193000Z
DTEND:20250810T213000Z
DTSTAMP:20260422T003210Z
UID:2129@https://xrboston.org
CREATED:20260422T003210Z
DESCRIPTION:Event details: https://xrboston.org/action/rcr-aug08/\n\nDo yo
 u live in Allston\, Brighton\, Brookline\, or Fenway? Be part of the Rat C
 ity Rebels\, an affinity group taking a stand against fascism and the clim
 ate crisis! We meet monthly to plan local actions that convey the urgency 
 of the climate and ecological emergencies.\n\nJoin for a Rat City Rebels g
 athering! We will continue getting to know each other\, forming our group\
 , and create banners for our next standout.\n\nIf you can make it\, please
  sign up below. Can’t make it this time? Email outreach@xrboston.org to 
 join the Rat City Rebels.\n\nAccessible via the 57 Bus and BlueBikes
LAST-MODIFIED:20250808T231638Z
LOCATION:Cafe Lava and Bento - 298 Washington St\, Brighton\, MA
ORGANIZER;CN="Extinction Rebellion Boston":MAILTO:outreach@xrboston.org
URL:https://xrboston.org/action/rcr-aug08/
END:VEVENT
END:VCALENDAR
