BEGIN:VCALENDAR
VERSION:2.0
PRODID:-//Extinction Rebellion Boston//Action//
BEGIN:VEVENT
SUMMARY:Rat City Rebels Affinity Group Gathering
DTSTART:20251207T203000Z
DTEND:20251207T223000Z
DTSTAMP:20260421T184128Z
UID:2190@https://xrboston.org
CREATED:20260421T184128Z
DESCRIPTION:Event details: https://xrboston.org/action/rcr-dec07/\n\nDo yo
 u live in Allston\, Brighton\, Brookline\, or Fenway? Come join the Rat Ci
 ty Rebels\, an affinity group taking a stand against fascism and the clima
 te crisis! We meet monthly to plan local actions that convey the urgency o
 f the climate and ecological emergencies.\n\nJoin for a Rat City Rebels ga
 thering! We will continue getting to know each other\, reflect on past eve
 nts\, and brainstorm our next standout.\n\nIf you can make it\, please sig
 n up below. Can’t make it this time? Email outreach@xrboston.org to join
  the Rat City Rebels.\n\nAccessible via the 57 bus and BlueBikes. A short 
 walk from the 86 bus. Free street parking and a free lot across the street
 .
LAST-MODIFIED:20251208T193237Z
LOCATION:Cafe Lava and Bento - 298 Washington St\, Brighton\, MA
ORGANIZER;CN="Extinction Rebellion Boston":MAILTO:outreach@xrboston.org
URL:https://xrboston.org/action/rcr-dec07/
END:VEVENT
END:VCALENDAR
