BEGIN:VCALENDAR
VERSION:2.0
PRODID:-//Extinction Rebellion Boston//Action//
BEGIN:VEVENT
SUMMARY:Rat City Rebels Affinity Group Gathering
DTSTART:20260509T160000Z
DTEND:20260509T180000Z
DTSTAMP:20260420T022317Z
UID:2254@https://xrboston.org
CREATED:20260420T022317Z
DESCRIPTION:Event details: https://xrboston.org/action/rcr-may8/\n\nDo you
  live in Allston\, Brighton\, Brookline\, or Fenway (or just outside) and 
 want to take a stand against fascism and the climate crisis? Attend the Ra
 t City Rebels affinity group meeting where we chat and plan with our neigh
 bors about resiliency and non-violent direct action. We meet monthly to pl
 an local events that convey the urgency of the climate and ecological emer
 gencies that are affecting us all.\n\nJoin for the next gathering of the R
 at City Rebels Affinity Group. We'll reflect on past XR events\, and plan 
 our participation in upcoming chapter and solidarity events\, as well as s
 tart planning our own events. If there's rain we'll pick a nearby cafe/foo
 d establishment for our meet up location\, so RSVP for updates. \n\nCan’
 t make it this time but want to join the group? Email outreach@xrboston.or
 g to get connected. We look forward to your joining us!
LAST-MODIFIED:20260419T142930Z
LOCATION:Lawton Playground\, 125 Lawton St\, Brookline MA
ORGANIZER;CN="Extinction Rebellion Boston":MAILTO:outreach@xrboston.org
URL:https://xrboston.org/action/rcr-may8/
END:VEVENT
END:VCALENDAR
