BEGIN:VCALENDAR
VERSION:2.0
PRODID:-//Extinction Rebellion Boston//Action//
BEGIN:VEVENT
SUMMARY:Rat City Rebels Affinity Group Gathering
DTSTART:20250907T193000Z
DTEND:20250907T213000Z
DTSTAMP:20260421T225438Z
UID:2138@https://xrboston.org
CREATED:20260421T225438Z
DESCRIPTION:Event details: https://xrboston.org/action/rcr-sept07/\n\nDo y
 ou live in Allston\, Brighton\, Brookline\, or Fenway? Be part of the Rat 
 City Rebels\, an affinity group taking a stand against fascism and the cli
 mate crisis! We meet monthly to plan local actions that convey the urgency
  of the climate and ecological emergencies.\n\nJoin for a Rat City Rebels 
 gathering! We will continue getting to know each other\, reflect on past e
 vents\, and brainstorm our next standout.\n\nIf you can make it\, please s
 ign up below. Can’t make it this time? Email outreach@xrboston.org to jo
 in the Rat City Rebels.\n\nAccessible via the 57 Bus and BlueBikes
LAST-MODIFIED:20250810T222505Z
LOCATION:Cafe Lava and Bento - 298 Washington St\, Brighton\, MA
ORGANIZER;CN="Extinction Rebellion Boston":MAILTO:outreach@xrboston.org
URL:https://xrboston.org/action/rcr-sept07/
END:VEVENT
END:VCALENDAR
