BEGIN:VCALENDAR
VERSION:2.0
PRODID:-//Extinction Rebellion Boston//Action//
BEGIN:VEVENT
SUMMARY:Rebels of the Fells Thanksgiving Potluck
DTSTART:20251123T210000Z
DTEND:20251123T230000Z
DTSTAMP:20260421T201614Z
UID:2183@https://xrboston.org
CREATED:20260421T201614Z
DESCRIPTION:Event details: https://xrboston.org/action/rebels-of-the-fells
 -thanksgiving-potluck/\n\nDo you live in Malden\, Melrose\, Wakefield\, Re
 ading\, or a neighboring town?\nCome meet your neighbors who care about th
 e earth as much as you do!\n\nThe "Xtraordinary Rebels of the Fells" affin
 ity group will be gathering at a local Malden neighbor's home for a vegan 
 thanksgiving potluck. Bring your favorite vegan dish or dessert to share.\
 n\nLocation is within walking distance of the Oak Grove T stop\, secure fo
 r storage of bikes\, and street parking is available. Please RSVP for deta
 ils!
LAST-MODIFIED:20251105T153021Z
LOCATION:Malden - RSVP for location
ORGANIZER;CN="Extinction Rebellion Boston":MAILTO:outreach@xrboston.org
URL:https://xrboston.org/action/rebels-of-the-fells-thanksgiving-potluck/
END:VEVENT
END:VCALENDAR
