BEGIN:VCALENDAR
VERSION:2.0
PRODID:-//Extinction Rebellion Boston//Action//
BEGIN:VEVENT
SUMMARY:Red Rebel Brigade Orientation
DTSTART:20231106T230000Z
DTEND:20231107T010000Z
DTSTAMP:20260425T105646Z
UID:1659@https://xrboston.org
CREATED:20260425T105646Z
DESCRIPTION:Event details: https://xrboston.org/action/red-rebel-brigade-n
 ov6/\n\nThe Boston Red Rebel Brigade is enlisiting new members.  Dressed i
 n robes and veils of red\, we move slowly in silence. The Reds symbolize t
 he common blood we share with all species\, all that unifies us and makes 
 us one. If you have never seen the Reds in action\, you can get a glimpse 
 here.\n\nJoin us for a one-hour\, on-line workshop on Monday\, November 6 
 at 6 pm. All are welcome - both people who want to process as a Red and pe
 ople who are curious to learn more about us.\n\nRSVP on this page to recei
 ve the ZOOM link.\n\nFor more information on the Boston Red Rebel Brigade\
 , visit http://redrebelsboston.org/
LAST-MODIFIED:20231018T160443Z
LOCATION:Online - RSVP here to receive link
ORGANIZER;CN="Extinction Rebellion Boston":MAILTO:outreach@xrboston.org
URL:https://xrboston.org/action/red-rebel-brigade-nov6/
END:VEVENT
END:VCALENDAR
