BEGIN:VCALENDAR
VERSION:2.0
PRODID:-//Extinction Rebellion Boston//Action//
BEGIN:VEVENT
SUMMARY:Red Rebel Brigade Orientation
DTSTART:20211222T140000Z
DTEND:20211222T160000Z
DTSTAMP:20260421T100402Z
UID:1017@https://xrboston.org
CREATED:20260421T100402Z
DESCRIPTION:Event details: https://xrboston.org/action/red-rebel-brigade-o
 rientation2/\n\nThe Boston chapter of the Red Rebel Brigade is looking for
 ward to joining the First Night Parade on December 31.  Dressed in robes a
 nd veils of red\, we move slowly in silence.  The Reds symbolize the commo
 n blood we share with all species\, all that unifies us and makes us one. 
  If you have never seen the Reds in action\, you can get a glimpse [here.]
 (https://www.youtube.com/watch?v=6NLpRzOAUe8)\n \nWe invite anyone who wan
 ts to join us in processing or simply learn more about us to an hour-long 
 orientation on December 22 at 9am.  Email MARRB@protonmail.com to receive 
 the Zoom link. All are welcome.\n\nFor more information on the Boston Red 
 Rebel Brigade\, visit http://redrebelsboston.org/
LAST-MODIFIED:20211219T232818Z
LOCATION:Online
ORGANIZER;CN="Extinction Rebellion Boston":MAILTO:outreach@xrboston.org
URL:https://xrboston.org/action/red-rebel-brigade-orientation2/
END:VEVENT
END:VCALENDAR
