BEGIN:VCALENDAR
VERSION:2.0
PRODID:-//Extinction Rebellion Boston//Action//
BEGIN:VEVENT
SUMMARY:Red Rebel Open House
DTSTART:20220717T180000Z
DTEND:20220717T200000Z
DTSTAMP:20260419T182001Z
UID:1227@https://xrboston.org
CREATED:20260419T182001Z
DESCRIPTION:Event details: https://xrboston.org/action/red-rebel-open-hous
 e/\n\nJoin the Red Rebels for an informal discussion on what it means to b
 e a Red.  Why do we wear red robes?  Why do we process in silence?  What i
 s the meaning of our gestures?   During the first part of this gathering\,
  we will share how Reds prepare for an action - making our costumes\, appl
 ying our makeup\, practicing our movements and finally going into silence.
   After Q+As\, all attendees will be invited to join us as we process alon
 g the Charles River. (Note:  Memorial Drive is closed on Sundays in the su
 mmer.  Only bikes and pedestrians allowed.)\n\nJuly 17\, 2022 2-3:30pm Joh
 n F. Kennedy Park (located at the corner of JFK Street and Memorial Drive\
 , a 7 minute walk from the Harvard Square T stop)\n\nPlease RSVP on this p
 age.
LAST-MODIFIED:20220705T162520Z
LOCATION:JFK Park (Near Harvard Square)\, Cambridge\, MA
ORGANIZER;CN="Extinction Rebellion Boston":MAILTO:outreach@xrboston.org
URL:https://xrboston.org/action/red-rebel-open-house/
END:VEVENT
END:VCALENDAR
