BEGIN:VCALENDAR
VERSION:2.0
PRODID:-//Extinction Rebellion Boston//Action//
BEGIN:VEVENT
SUMMARY:Red Rebel Brigade Orientation
DTSTART:20240325T220000Z
DTEND:20240326T000000Z
DTSTAMP:20260425T164525Z
UID:1755@https://xrboston.org
CREATED:20260425T164525Z
DESCRIPTION:Join online: <a href="https://us02web.zoom.us/meeting/register
 /tZYrc-mrqjIrHtWChUXZcwdy_dVWkhlidtOx">https://us02web.zoom.us/meeting/reg
 ister/tZYrc-mrqjIrHtWChUXZcwdy_dVWkhlidtOx</a>\n\nEvent details: <a href="
 https://xrboston.org/action/red-rebel-orientation/">https://xrboston.org/a
 ction/red-rebel-orientation/</a>\n\nThe Boston Red Rebel Brigade is enlist
 ing new members. Dressed in robes and veils of red\, we move slowly in sil
 ence. The Reds symbolize the common blood we share with all species\, all 
 that unifies us and makes us one. If you have never seen the Reds in actio
 n\, you can get a glimpse here.\n\nJoin us for a one-hour\, on-line worksh
 op on Monday\, March 25 at 6 pm. All are welcome - both people who want to
  process as a Red and people who are curious to learn more about us.\n\n[R
 egister here](https://us02web.zoom.us/meeting/register/tZYrc-mrqjIrHtWChUX
 Zcwdy_dVWkhlidtOx) to receive the Zoom link.\n\nFor more information on th
 e Boston Red Rebel Brigade\, visit http://redrebelsboston.org/\n\nPhoto by
  Skip Schiel.\n\n-::~:~::~:~:~:~:~:~:~:~:~:~:~:~:~:~:~:~:~:~:~:~:~:~:~:~:~
 :~:~:~:~:~:~:~:~:~:~:~::~:~::-\nDo not edit this section of the descriptio
 n.\n\nThis event has a video call.\nJoin: https://us02web.zoom.us/meeting/
 register/tZYrc-mrqjIrHtWChUXZcwdy_dVWkhlidtOx\n\nView your event at https:
 //xrboston.org/action/red-rebel-orientation/\n-::~:~::~:~:~:~:~:~:~:~:~:~:
 ~:~:~:~:~:~:~:~:~:~:~:~:~:~:~:~:~:~:~:~:~:~:~:~:~:~::~:~::-
LAST-MODIFIED:20240308T171158Z
LOCATION:Online event
ORGANIZER;CN="Extinction Rebellion Boston":MAILTO:outreach@xrboston.org
URL:https://xrboston.org/action/red-rebel-orientation/
END:VEVENT
END:VCALENDAR
