BEGIN:VCALENDAR
VERSION:2.0
PRODID:-//Extinction Rebellion Boston//Action//
BEGIN:VEVENT
SUMMARY:Training Series: Running a Remote Media Desk
DTSTART:20230823T230000Z
DTEND:20230824T010000Z
DTSTAMP:20260421T064010Z
UID:1554@https://xrboston.org
CREATED:20260421T064010Z
DESCRIPTION:Join online: <a href="https://us06web.zoom.us/meeting/register
 /tZAvdOuvpzgpHtWo3uYUOO9-FQP9SILzHofI">https://us06web.zoom.us/meeting/reg
 ister/tZAvdOuvpzgpHtWo3uYUOO9-FQP9SILzHofI</a>\n\nEvent details: <a href="
 https://xrboston.org/action/running-a-remote-media-desk-08-16-23/">https:/
 /xrboston.org/action/running-a-remote-media-desk-08-16-23/</a>\n\n**Resche
 duled from 8/16\n**This training will last 90 minutes.**\n\nAre you curiou
 s to learn more about different support roles for Extinction Rebellion Bos
 ton?\n\n**Running a Remote Media Desk:** This session will teach the proce
 ss of setting up a media desk to support rebels taking action. We will dis
 cuss the components of the media desk: sending the press release\, creatin
 g engaging social media content\, wrangling photo and video from on site p
 hotographers\, and posting real time updates.​\n\nOther sessions will in
 clude: \n\n* Police Liaison: Conveys information and demands between the p
 olice and the group before/during actions. Helps to keep the police calm a
 nd reminds them of our non-violence. \n\n* Arrest support: Provides direct
  personal support for arrestable people. They have all relevant personal i
 nformation\, will take the call from the police station\, provide support 
 at the police station and makes sure everyone gets home safely. \n\n* Peac
 ekeeping & deescalation: Help guide people where to go and keep protest sa
 fe by blocking traffic block of streets for us along the parade route.\n\n
 * Media Support: Helps facilitate the interactions between the group and t
 he media. Prepares press releases\, coordinates photography\, live-streami
 ng\, and footage to edit.\n\n-::~:~::~:~:~:~:~:~:~:~:~:~:~:~:~:~:~:~:~:~:~
 :~:~:~:~:~:~:~:~:~:~:~:~:~:~:~:~:~::~:~::-\nDo not edit this section of th
 e description.\n\nThis event has a video call.\nJoin: https://us06web.zoom
 .us/meeting/register/tZAvdOuvpzgpHtWo3uYUOO9-FQP9SILzHofI\n\nView your eve
 nt at https://xrboston.org/action/running-a-remote-media-desk-08-16-23/\n-
 ::~:~::~:~:~:~:~:~:~:~:~:~:~:~:~:~:~:~:~:~:~:~:~:~:~:~:~:~:~:~:~:~:~:~:~:~
 :~:~::~:~::-
LAST-MODIFIED:20230820T143101Z
LOCATION:Online event
ORGANIZER;CN="Extinction Rebellion Boston":MAILTO:outreach@xrboston.org
URL:https://xrboston.org/action/running-a-remote-media-desk-08-16-23/
END:VEVENT
END:VCALENDAR
