BEGIN:VCALENDAR
VERSION:2.0
PRODID:-//Extinction Rebellion Boston//Action//
BEGIN:VEVENT
SUMMARY:Self-organizing systems practice
DTSTART:20240220T230000Z
DTEND:20240221T010000Z
DTSTAMP:20260425T150725Z
UID:1732@https://xrboston.org
CREATED:20260425T150725Z
DESCRIPTION:Join online: <a href="https://us02web.zoom.us/meeting/register
 /tZwocOiqrTgsHNeA6sx6R5KkiEoWjn_wzZdD">https://us02web.zoom.us/meeting/reg
 ister/tZwocOiqrTgsHNeA6sx6R5KkiEoWjn_wzZdD</a>\n\nEvent details: <a href="
 https://xrboston.org/action/self-organizing-systems-practice-202402/">http
 s://xrboston.org/action/self-organizing-systems-practice-202402/</a>\n\nA 
 place to learn more about self-organizing systems and work through any cha
 llenges around process in various XR circles.\n\nWe will meet for 1 hour.\
 n\n-::~:~::~:~:~:~:~:~:~:~:~:~:~:~:~:~:~:~:~:~:~:~:~:~:~:~:~:~:~:~:~:~:~:~
 :~:~:~:~::~:~::-\nDo not edit this section of the description.\n\nThis eve
 nt has a video call.\nJoin: https://us02web.zoom.us/meeting/register/tZwoc
 OiqrTgsHNeA6sx6R5KkiEoWjn_wzZdD\n\nView your event at https://xrboston.org
 /action/self-organizing-systems-practice-202402/\n-::~:~::~:~:~:~:~:~:~:~:
 ~:~:~:~:~:~:~:~:~:~:~:~:~:~:~:~:~:~:~:~:~:~:~:~:~:~:~:~::~:~::-
LAST-MODIFIED:20240204T163928Z
LOCATION:Online event
ORGANIZER;CN="Extinction Rebellion Boston":MAILTO:outreach@xrboston.org
URL:https://xrboston.org/action/self-organizing-systems-practice-202402/
END:VEVENT
END:VCALENDAR
