BEGIN:VCALENDAR
VERSION:2.0
PRODID:-//Extinction Rebellion Boston//Action//
BEGIN:VEVENT
SUMMARY:WEEK OF REBELLION: September Rebellion at the Massachusetts State 
 House
DTSTART:20230918T170000Z
DTEND:20230918T190000Z
DTSTAMP:20260421T124556Z
UID:1592@https://xrboston.org
CREATED:20260421T124556Z
DESCRIPTION:Event details: https://xrboston.org/action/september-rebellion
 -at-massachusetts-state-house/\n\n**This is XR Boston's main fall action!*
 *\n\nWEEK OF REBELLION\n\nJoin XR Boston at the State House to demand No N
 ew Fossil Fuel Infrastructure! This is the perfect event for people intere
 sted in direct action with a flair for the dramatic. There will be "creati
 ve disruption" for activists looking to join escalation\, and plenty of "g
 reen" support roles.\n\nAnyone considering participating in the "creative 
 disruption" part of this event should attend an NVDA workshop beforehand.\
 n\nRSVP for exact timing and action information.\n\n**[More Week of Rebell
 ion Events / Information](https://www.xrboston.org/wor2023)**
LAST-MODIFIED:20230916T155723Z
LOCATION:Park St. Station
ORGANIZER;CN="Extinction Rebellion Boston":MAILTO:outreach@xrboston.org
URL:https://xrboston.org/action/september-rebellion-at-massachusetts-state
 -house/
END:VEVENT
END:VCALENDAR
