BEGIN:VCALENDAR
VERSION:2.0
PRODID:-//Extinction Rebellion Boston//Action//
BEGIN:VEVENT
SUMMARY:[Solidarity Action] Awakening For Earth: Outdoor Meditation in Cam
 bridge
DTSTART:20211205T160000Z
DTEND:20211205T180000Z
DTSTAMP:20260421T100229Z
UID:970@https://xrboston.org
CREATED:20260421T100229Z
DESCRIPTION:Event details: https://xrboston.org/action/sitting-for-surviva
 l-outside-cambridge/\n\nJoin [Awakening For Earth](awakeningforearth.com) 
 in Cambridge\, MA for an outdoor meditation for Earth. This is a meditatio
 n in public space to bear witness to our current climate emergency and in 
 doing so\, we strive to awaken others to see and take action.\n\n* Where: 
 Central Square Post Office\, 770 Massachusetts Ave\, Cambridge\, MA 02139 
 \n\n* When: Every other Sunday from 11am-11:30am\n\nWe will sit distanced 
 with signs that we will provide or you can bring your own.\nPlease come ma
 sked.\n\nIf you would like reminders and updates about this event\, sign u
 p for our mailing list below - it’s the mode of communication we use to 
 send out on-the-day-updates (such as cancellation due to weather)\, remind
 ers\, and general information about our events.
LAST-MODIFIED:20211127T185942Z
LOCATION:Central Square Post Office\, 770 Massachusetts Ave\, Cambridge\, 
 MA 02139
ORGANIZER;CN="Extinction Rebellion Boston":MAILTO:outreach@xrboston.org
URL:https://xrboston.org/action/sitting-for-survival-outside-cambridge/
END:VEVENT
END:VCALENDAR
