BEGIN:VCALENDAR
VERSION:2.0
PRODID:-//Extinction Rebellion Boston//Action//
BEGIN:VEVENT
SUMMARY:[Solidarity] Fix The Grid Community Summit
DTSTART:20240323T133000Z
DTEND:20240323T153000Z
DTSTAMP:20260425T164653Z
UID:1767@https://xrboston.org
CREATED:20260425T164653Z
DESCRIPTION:Event details: https://xrboston.org/action/slingshot-conferenc
 e-/\n\nGreenRoots is partnering with Slingshot to bring together energy ac
 tivists from around New England to strategize about how to Fix our Electri
 cal Grid! Please register now for our summit on Saturday\, March 23rd in S
 outhern NH. We will be exploring energy democracy\, and the ways in which 
 we can make sure that our regional electrical grid is clean\, sustainable 
 and benefits communities! XR and GreenRoots will help coordinate travel fo
 r Chelsea and East Boston residents who are interested in attending!
LAST-MODIFIED:20240316T173956Z
LOCATION:Danvers\, NH
ORGANIZER;CN="Extinction Rebellion Boston":MAILTO:outreach@xrboston.org
URL:https://xrboston.org/action/slingshot-conference-/
END:VEVENT
END:VCALENDAR
