BEGIN:VCALENDAR
VERSION:2.0
PRODID:-//Extinction Rebellion Boston//Action//
BEGIN:VEVENT
SUMMARY:[Solidarity Action] Awakening For Earth: Outdoor Meditation in Cam
 bridge
DTSTART:20220417T141500Z
DTEND:20220417T161500Z
DTSTAMP:20260420T204132Z
UID:1122@https://xrboston.org
CREATED:20260420T204132Z
DESCRIPTION:Event details: https://xrboston.org/action/solidarity-action-a
 fe/\n\nFrom [Awakening for Earth](awakeningforearth.com): We are holding S
 itting for Survival meditations in public spaces around Cambridge to bear 
 witness to the climate emergency and in doing so\, strive to awaken others
  to see and take action.\n\n***We will be alternating locations every few 
 months. In April and May:* **\n\n**Where:** Central Square Post office\, 7
 70 Massachusetts Ave\, Cambridge\, MA\n\n**When:** Every other Sunday from
  10:15am-11:00am\n10:15am-10:45am for Sitting Meditation\n10:45am-1100am C
 ommunity building\n\nWe will sit distanced with signs that we will provide
  or you can bring your own. Please come masked! \n\n-----\n\nWho We Are:\n
 \nWe are spiritual practitioners dedicated to facing the climate crisis wi
 th compassion and determination to engage in nonviolent direct action. We 
 see climate justice within the framework of social justice and commit to a
 dvocating for policies that empower communities most impacted by climate c
 hange.\n\nWhat We Do:\n\nWe invoke our mindfulness practice to hold the pa
 in of this ecological and spiritual crisis. We bring silent sitting and wa
 lking meditation to public spaces to raise awareness to the devastating ef
 fects of our planetary emergency and the urgent need to take personal and 
 collective action.\n\nRecognizing the need for regeneration in this consum
 ing effort\, we invite pauses to be in community\, to care for one another
  and nourish ourselves\, bringing the energy of love and understanding to 
 sustain this demanding effort.\n\nSign up for our email list at awakeningf
 orearth.com. If you have questions or are interested in getting more invol
 ved\, feel free to e-mail us at awakeningforearth@gmail.com.
LAST-MODIFIED:20220421T195350Z
LOCATION:Central Square Post office\, 770 Massachusetts Ave\, Cambridge\, 
 MA
ORGANIZER;CN="Extinction Rebellion Boston":MAILTO:outreach@xrboston.org
URL:https://xrboston.org/action/solidarity-action-afe/
END:VEVENT
END:VCALENDAR
