BEGIN:VCALENDAR
VERSION:2.0
PRODID:-//Extinction Rebellion Boston//Action//
BEGIN:VEVENT
SUMMARY:[SOLIDARITY] Anti-Billionaire Book Event with Chuck Collins
DTSTART:20251015T220000Z
DTEND:20251016T000000Z
DTSTAMP:20260421T213322Z
UID:2148@https://xrboston.org
CREATED:20260421T213322Z
DESCRIPTION:Event details: https://xrboston.org/action/solidarity-chuck-co
 llins-anti-billionaire-event/\n\nAre you aware of how the billionaire clas
 s controls our politics\, food\, and even the lives of our pets? They are 
 destroying Planet Earth's livability at breakneck speeds. Billionaires are
  influencing every aspect of our lives and it's hurting us all! \n\nJoin u
 s to hear author Chuck Collins speak about his new book hot off the presse
 s\, Burned by Billionaires: How Concentrated Wealth and Power Are Ruining 
 Our Lives and Planet. Chuck is a senior scholar with the Institute for Pol
 icy studies\, where he leads the Program on Inequality and Common Good. An
  expert on the wealthy and environment\, Chuck will be speaking about his 
 new book at Papercuts Bookstore!\n\nYou can learn more about Chuck and the
  book [on his website](https://www.chuckcollinswrites.com/).\n\nCopies are
  [available to purchase](https://thenewpress.org/books/burned-by-billionai
 res/?v=eb65bcceaa5f)!\n\nWe hope to see you there!
LAST-MODIFIED:20250905T142048Z
LOCATION:Papercuts Bookshop\, 60 South St\, Jamaica Plain\, MA 02130
ORGANIZER;CN="Extinction Rebellion Boston":MAILTO:outreach@xrboston.org
URL:https://xrboston.org/action/solidarity-chuck-collins-anti-billionaire-
 event/
END:VEVENT
END:VCALENDAR
