BEGIN:VCALENDAR
VERSION:2.0
PRODID:-//Extinction Rebellion Boston//Action//
BEGIN:VEVENT
SUMMARY:[Solidarity] Climate Crisis Cabaret
DTSTART:20250324T230000Z
DTEND:20250325T010000Z
DTSTAMP:20260426T013339Z
UID:2027@https://xrboston.org
CREATED:20260426T013339Z
DESCRIPTION:Event details: https://xrboston.org/action/solidarity-climate-
 crisis-cabaret/\n\nJoin us for a new cabaret fusing the arts and climate a
 ctivism! Come share your hopes\, fears\, passion\, love and energy\, and j
 oin the action! Multiple members of Extinction Boston Rebellion will be pa
 rticipating\, including the Red Rebels.\n\nThere will be two dates\, on Mo
 nday 3/25 and Tuesday 3/25.\n\nThe event is pay-what-you-can. Tickets are 
 available at [https://climatecrisiscabaret.org/climate-crisis-cabaret-tick
 ets.html](https://climatecrisiscabaret.org/climate-crisis-cabaret-tickets.
 html)\n\nWe encourage you to arrive early and join the pre-show action! Th
 e Arrow Street Arts lobby will open at 6pm (the Cabaret begins at 7pm). In
  the lobby you’ll find tables hosted by climate organizations with activ
 ists eager to converse\, and the concession stand will be selling snacks a
 nd drinks.
LAST-MODIFIED:20250304T031649Z
LOCATION:Arrow Street Arts\, 2 Arrow St\, Cambridge\, MA 02138
ORGANIZER;CN="Extinction Rebellion Boston":MAILTO:outreach@xrboston.org
URL:https://xrboston.org/action/solidarity-climate-crisis-cabaret/
END:VEVENT
END:VCALENDAR
