BEGIN:VCALENDAR
VERSION:2.0
PRODID:-//Extinction Rebellion Boston//Action//
BEGIN:VEVENT
SUMMARY:[Solidarity] Climate Crisis Cabaret
DTSTART:20250325T230000Z
DTEND:20250326T010000Z
DTSTAMP:20260423T004853Z
UID:2028@https://xrboston.org
CREATED:20260423T004853Z
DESCRIPTION:Event details: https://xrboston.org/action/solidarity-climate-
 crisis-cabaret2/\n\nJoin us for a new cabaret fusing the arts and climate 
 activism! Come share your hopes\, fears\, passion\, love and energy\, and 
 join the action! Multiple members of Extinction Boston Rebellion will be p
 articipating\, including the Red Rebels.\n\nThere will be two dates\, on M
 onday 3/25 and Tuesday 3/25.\n\nThe event is pay-what-you-can. Tickets are
  available at [https://climatecrisiscabaret.org/climate-crisis-cabaret-tic
 kets.html](https://climatecrisiscabaret.org/climate-crisis-cabaret-tickets
 .html)\n\nWe encourage you to arrive early and join the pre-show action! T
 he Arrow Street Arts lobby will open at 6pm (the Cabaret begins at 7pm). I
 n the lobby you’ll find tables hosted by climate organizations with acti
 vists eager to converse\, and the concession stand will be selling snacks 
 and drinks.
LAST-MODIFIED:20250304T031738Z
LOCATION:Arrow Street Arts\, 2 Arrow St\, Cambridge\, MA 02138
ORGANIZER;CN="Extinction Rebellion Boston":MAILTO:outreach@xrboston.org
URL:https://xrboston.org/action/solidarity-climate-crisis-cabaret2/
END:VEVENT
END:VCALENDAR
