BEGIN:VCALENDAR
VERSION:2.0
PRODID:-//Extinction Rebellion Boston//Action//
BEGIN:VEVENT
SUMMARY:[Solidarity] East Boston Halloween Block Party
DTSTART:20241031T200000Z
DTEND:20241031T220000Z
DTSTAMP:20260425T165116Z
UID:1930@https://xrboston.org
CREATED:20260425T165116Z
DESCRIPTION:Event details: https://xrboston.org/action/solidarity-east-bos
 ton-halloween-block-party/\n\nOur friends in East Boston are inviting XR t
 o their Halloween block party. \n\nWhen? October 31st 4-8pm\n\nWhere? East
  Boston\, Saratoga St between Brooks & Marion St
LAST-MODIFIED:20241028T125745Z
LOCATION:Saratoga Street\, East Boston
ORGANIZER;CN="Extinction Rebellion Boston":MAILTO:outreach@xrboston.org
URL:https://xrboston.org/action/solidarity-east-boston-halloween-block-par
 ty/
END:VEVENT
END:VCALENDAR
