BEGIN:VCALENDAR
VERSION:2.0
PRODID:-//Extinction Rebellion Boston//Action//
BEGIN:VEVENT
SUMMARY:[Solidarity]  FRRACS Rally in the Park: No more toxic gas
DTSTART:20231115T143500Z
DTEND:20231115T163500Z
DTSTAMP:20260425T104921Z
UID:1676@https://xrboston.org
CREATED:20260425T104921Z
DESCRIPTION:Event details: https://xrboston.org/action/solidarity-frracs-r
 ally/\n\nJoin FRRACS on Wednesday\, November 15 for a rally in Kings Cove 
 Park (50 Bridge Street\, Weymouth)\, in opposition to the operation of Enb
 ridge’s compressor station. We are gathering to say “No More Toxic Gas
 ”. The compressor station is spewing toxicity into the community\, despi
 te the lack of the need for the gas or facility\, and while a key license 
 is being appealed in court.\n\nIn addition to the unnecessary operation of
  the compressor station\, there has been news about a new Enbridge project
  called “Project Maple”. Though not much is known about the project cu
 rrently\, we do know that any expansion of fracked gas or other fossil fue
 ls will exacerbate the climate crisis. If Project Maple moves forward\, it
  could lead to the expansion of turbines at the compressor station. Curren
 tly\, Enbridge is in “open season” for Project Maple\, which means the
 y are seeking customers who would buy the additional gas. We have voiced o
 ur opposition to the project proposal and will continue to do so.\n\nOn No
 vember 15\, we will gather to speak out against the compressor and any eff
 orts to expand the burning of fracked gas. Light refreshments will be prov
 ided. Parking is available near the park. For parking maps\, [visit our we
 bsite here](https://www.nocompressor.com/calendar/2023/11/15/rally-in-the-
 park-no-more-toxic-gas)
LAST-MODIFIED:20231106T144926Z
LOCATION:50 Bridge Street\, North Weymouth\, MA
ORGANIZER;CN="Extinction Rebellion Boston":MAILTO:outreach@xrboston.org
URL:https://xrboston.org/action/solidarity-frracs-rally/
END:VEVENT
END:VCALENDAR
