BEGIN:VCALENDAR
VERSION:2.0
PRODID:-//Extinction Rebellion Boston//Action//
BEGIN:VEVENT
SUMMARY:[Solidarity] Green Light for Climate Justice! A Multi-Faith Servic
 e of Celebration and Resolve
DTSTART:20250426T223000Z
DTEND:20250427T003000Z
DTSTAMP:20260424T044120Z
UID:2068@https://xrboston.org
CREATED:20260424T044120Z
DESCRIPTION:Event details: https://xrboston.org/action/solidarity-green-li
 ght-for-climate-justice/\n\nJoin us for a powerful multi-faith service mar
 king the launch of a bold new chapter in the fight for climate justice. As
  we prepare for Sun Day\, a nationwide climate mobilization on September 2
 0–21\, this service will light the way forward with spirit\, song\, and 
 solidarity. The service will culminate with the lighting of a green lanter
 n in Old North's historic spire - an image that will resonate across the n
 ation.\n\nSpeakers will include visionary leaders including Bill McKibben\
 , Rev. Lennox Yearwood\, Rabbi Shoshana Friedman\, Diana Butler Bass and G
 rammy-nominated vocalist Antonique Smith. Together\, we’ll celebrate our
  shared commitment to creation\, renew our resolve\, and learn how local f
 aith communities can give their green light to taking action in the lead-u
 p to September.\n\nAll are welcome to be part of this historic moment of h
 ope\, faith\, and action.
LAST-MODIFIED:20250422T200659Z
LOCATION:Old North Church• 193 Salem Street\, Boston\, MA 02113
ORGANIZER;CN="Extinction Rebellion Boston":MAILTO:outreach@xrboston.org
URL:https://xrboston.org/action/solidarity-green-light-for-climate-justice
 /
END:VEVENT
END:VCALENDAR
