BEGIN:VCALENDAR
VERSION:2.0
PRODID:-//Extinction Rebellion Boston//Action//
BEGIN:VEVENT
SUMMARY:[Solidarity] Green New Deal for Cambridge – Rally & Hearing
DTSTART:20230412T210000Z
DTEND:20230412T230000Z
DTSTAMP:20260421T121843Z
UID:1492@https://xrboston.org
CREATED:20260421T121843Z
DESCRIPTION:Event details: https://xrboston.org/action/solidarity-green-ne
 w-deal-for-cambridge-rally/\n\nRSVP HERE: https://actionnetwork.org/events
 /green-new-deal-for-cambridge-rally-and-hearing\n\nFrom the organizers: On
  Wednesday\, April 12\, Cambridge City Council will gather to discuss and 
 vote on a crucial piece of Green New Deal legislation: amendments to the c
 ity’s Building Energy Use Disclosure Ordinance. Buildings are by far the
  largest source of greenhouse gas emissions in Cambridge\, and our city le
 aders need to pass strong policy to ensure that the largest property owner
 s in our city – which are also the biggest polluters – transition off 
 of fossil fuels and cut their emissions.\n\nJoin us at 5 PM for a Green Ne
 w Deal rally\, followed by an opportunity to provide public comment at the
  5:30 PM council hearing. This is a critical moment to show up in the stre
 ets and in the council chambers and make clear how much support there is f
 or strong and equitable climate action across our city.\n\nAll are welcome
  to the rally\, and we invite Cambridge residents\, workers\, and students
  in particular to give public comment. Public comment is a one or two-minu
 te statement made during the hearing that you can share in-person at Cambr
 idge City Hall or virtually via Zoom. If you sign up\, we'll follow up wit
 h more information on logistics\, talking points\, and helpful tips on how
  to give a comment.\n\nThis rally is co-organized by Boston DSA Ecosociali
 st Working Group\, Sunrise Cambridge\, MIT Divest\, 350 Mass Cambridge-Som
 erville\, Harvard Climate Coalition\, Harvard Undergraduate Clean Energy G
 roup\, Our Revolution Cambridge\, and Boston Climate Action Network.
LAST-MODIFIED:20230405T170410Z
LOCATION:795 Massachusetts Ave\, Cambridge\, MA 02139 US
ORGANIZER;CN="Extinction Rebellion Boston":MAILTO:outreach@xrboston.org
URL:https://xrboston.org/action/solidarity-green-new-deal-for-cambridge-ra
 lly/
END:VEVENT
END:VCALENDAR
