BEGIN:VCALENDAR
VERSION:2.0
PRODID:-//Extinction Rebellion Boston//Action//
BEGIN:VEVENT
SUMMARY:[Solidarity] Hands Off!
DTSTART:20250405T150000Z
DTEND:20250405T170000Z
DTSTAMP:20260424T044926Z
UID:2053@https://xrboston.org
CREATED:20260424T044926Z
DESCRIPTION:Event details: https://xrboston.org/action/solidarity-hands-of
 f/\n\nThe federal administration thinks this country belongs to them—and
  that they're above the law. They're taking everything they can get their 
 hands on—our rights\, our health care\, our data\, our jobs\, our servic
 es—and daring the world to stop them. But as Mayor Wu put it — two wee
 ks after standing up for Boston’s immigrants in Congress and one week af
 ter Boston became a sanctuary city for the LGBTQ+ community — “No one 
 tells Boston how to take care of our own\, not kings\, and not presidents 
 who think they are kings… God save whoever messes with Boston.”\n\nOn 
 Saturday\, April 5th\, a coalition of Massachusetts resistance groups is t
 aking to the streets to fight back with a clear message: Hands off! Becaus
 e we will always protect our neighbors\, regardless of their race\, gender
 \, sexuality\, origin\, background\, status\, disability\, religion or lac
 k thereof. Massachusetts is ready to protect democracy—and we the people
  are ready to show up. We the People means EVERYBODY!\n\nSchedule\n\n    1
 1:00 am: Meet at Parkman Bandstand\n\n    11:15 am: Kickoff speaker\n\n   
  11:25 am: March to City Hall Plaza\n\n    12:30 pm: Speakers at City Hall
  Plaza
LAST-MODIFIED:20250329T221519Z
LOCATION:Parkman Bandstand\, Boston Common
ORGANIZER;CN="Extinction Rebellion Boston":MAILTO:outreach@xrboston.org
URL:https://xrboston.org/action/solidarity-hands-off/
END:VEVENT
END:VCALENDAR
