BEGIN:VCALENDAR
VERSION:2.0
PRODID:-//Extinction Rebellion Boston//Action//
BEGIN:VEVENT
SUMMARY:[Solidarity] Lakota Nation vs the United States
DTSTART:20231201T000000Z
DTEND:20231201T020000Z
DTSTAMP:20260425T110306Z
UID:1683@https://xrboston.org
CREATED:20260425T110306Z
DESCRIPTION:Event details: https://xrboston.org/action/solidarity-lakota-n
 ation-vs-the-united-states/\n\nCo-presented with the Independent Film Fest
 ival Boston\, the Roxbury International Film Festival and Globedocs. \n\nD
 irected by Jesse Short Bull and Laura Tomaselli\, documentary\, English\, 
 United States\, 118 minutes\, 2023.\n\nLakota Nation vs. the United States
  chronicles the Lakota Indians’ century-long quest to reclaim the Black 
 Hills\, sacred land that was stolen in violation of treaty agreements. A s
 earing\, timely portrait of resistance\, the film explores the ways Americ
 a has ignored its debt to indigenous communities\, and ponders what might 
 be done today to repair the wrongs of the past. Discussion with Emerson Co
 llege professor Adam Spry (White Earth Anishinaabe) to follow. GD\, BIPOC\
 , SJ\, En [CC\, AD].\n\nSee the trailer [here.](https://images.app.goo.gl/
 4JfdR5467rWkmQ7L8)\n\nAdmission is free.
LAST-MODIFIED:20231117T235346Z
LOCATION:Bright Family Screening Room\, Emerson College Paramount Center\,
  559 Washington Street\, Boston\, MA
ORGANIZER;CN="Extinction Rebellion Boston":MAILTO:outreach@xrboston.org
URL:https://xrboston.org/action/solidarity-lakota-nation-vs-the-united-sta
 tes/
END:VEVENT
END:VCALENDAR
