BEGIN:VCALENDAR
VERSION:2.0
PRODID:-//Extinction Rebellion Boston//Action//
BEGIN:VEVENT
SUMMARY:[Solidarity] Love Your National Forests Twitterstorm
DTSTART:20220214T170000Z
DTEND:20220214T190000Z
DTSTAMP:20260425T035345Z
UID:1051@https://xrboston.org
CREATED:20260425T035345Z
DESCRIPTION:Event details: https://xrboston.org/action/solidarity-love-you
 r-national-forests-twitterstorm/\n\nXR Boston is supporting XR Vermont in 
 their efforts to stop logging the Telephone Gap Area of the Green Mountain
  National Forest. We will be having a Valentine's Day twitterstorm to remi
 nd everyone to love their national forests. \nLetting our trees stand is t
 he best way to remove and store atmospheric carbon dioxide. We must save l
 ife on earth.\n\nHowever\, our government feels otherwise. Did you know th
 at the US National Forest Service:\n\n1.  Has logged or plans to log over 
 43\,000 acres of the Green Mountain National Forest? This area is approxim
 ately the size of Washington DC. The proposed Telephone Gap Project will o
 pen up 11\,000 additional acres\, larger than the entire area of Burlingto
 n\, VT?\n2.  Spends hundreds of millions of taxpayer dollars annually subs
 idizing commercial logging activities?\n3.  Allows private companies to cu
 t down trees\, mine for coal\, drill for oil and gas\, and bulldoze pipeli
 ne routes in US National Forests?\n4.  Has traditionally viewed trees as c
 rops and has prioritized timber harvests in the US National Forests?\n\nHe
 re is a [news clip](https://www.wcax.com/2022/02/06/vermonters-protest-log
 ging-green-mountain-national-forest/) of XR Vermont's action on Saturday F
 ebruary 5. \n\nSo\, on Valentine's Day\, get out and show your love for ou
 r National Forests. Here is the [twittersheet](https://docs.google.com/doc
 ument/d/1Xyd4fsP8kj-Pdze8Lq3eL1cUM3MAnCMt9u1bpzWCi6E/edit?usp=sharing) for
  our action at noon.  Also you can [write a letter now](https://actionnetw
 ork.org/letters/end-reckless-logging-on-the-green-mountain-national-forest
 ).\n\nSpecial thanks to Will Harlan of the Center for Biological Diversity
  for his article [What You Don’t Know About Your National Forests](https
 ://www.blueridgeoutdoors.com/magazine/march-2020/what-you-dont-know-about-
 your-national-forests/)
LAST-MODIFIED:20220213T230011Z
LOCATION:Online
ORGANIZER;CN="Extinction Rebellion Boston":MAILTO:outreach@xrboston.org
URL:https://xrboston.org/action/solidarity-love-your-national-forests-twit
 terstorm/
END:VEVENT
END:VCALENDAR
