BEGIN:VCALENDAR
VERSION:2.0
PRODID:-//Extinction Rebellion Boston//Action//
BEGIN:VEVENT
SUMMARY:[Solidarity] Love Your National Forests Twitterstorm
DTSTART:20220228T170000Z
DTEND:20220228T190000Z
DTSTAMP:20260425T035007Z
UID:1071@https://xrboston.org
CREATED:20260425T035007Z
DESCRIPTION:Event details: https://xrboston.org/action/solidarity-love-you
 r-national-forests2/\n\nXR Boston is supporting XR Vermont in their effort
 s to stop logging the Telephone Gap Area of the Green Mountain National Fo
 rest. We will be having a  twitterstorm on Mon Feb 28 to remind everyone t
 o love their national forests. \nLetting our trees stand is the best way t
 o remove and store atmospheric carbon dioxide. We must save life on earth.
 \n\nHowever\, our government feels otherwise. Did you know that the US Nat
 ional Forest Service:\n\n1.  Has logged or plans to log over 43\,000 acres
  of the Green Mountain National Forest? This area is approximately the siz
 e of Washington DC. The proposed Telephone Gap Project will open up 11\,00
 0 additional acres\, larger than the entire area of Burlington\, VT?\n2.  
 Spends hundreds of millions of taxpayer dollars annually subsidizing comme
 rcial logging activities?\n3.  Allows private companies to cut down trees\
 , mine for coal\, drill for oil and gas\, and bulldoze pipeline routes in 
 US National Forests?\n4.  Has traditionally viewed trees as crops and has 
 prioritized timber harvests in the US National Forests?\n\nHere is a [news
  clip](https://www.wcax.com/2022/02/06/vermonters-protest-logging-green-mo
 untain-national-forest/) of XR Vermont's action on Saturday February 5. \n
 \nSo\, on Monday February 28\, get out and show your love for our National
  Forests. Here is the [twittersheet](https://docs.google.com/document/d/1X
 yd4fsP8kj-Pdze8Lq3eL1cUM3MAnCMt9u1bpzWCi6E/edit?usp=sharing) for our actio
 n at noon.  Also you can [write a letter now](https://actionnetwork.org/le
 tters/end-reckless-logging-on-the-green-mountain-national-forest).\n\nSpec
 ial thanks to Will Harlan of the Center for Biological Diversity for his a
 rticle [What You Don’t Know About Your National Forests](https://www.blu
 eridgeoutdoors.com/magazine/march-2020/what-you-dont-know-about-your-natio
 nal-forests/)
LAST-MODIFIED:20220222T003531Z
LOCATION:Online
ORGANIZER;CN="Extinction Rebellion Boston":MAILTO:outreach@xrboston.org
URL:https://xrboston.org/action/solidarity-love-your-national-forests2/
END:VEVENT
END:VCALENDAR
