BEGIN:VCALENDAR
VERSION:2.0
PRODID:-//Extinction Rebellion Boston//Action//
BEGIN:VEVENT
SUMMARY:[SOLIDARITY] Make Billionaires Pay March
DTSTART:20250920T110000Z
DTEND:20250920T130000Z
DTSTAMP:20260421T230124Z
UID:2135@https://xrboston.org
CREATED:20260421T230124Z
DESCRIPTION:Event details: https://xrboston.org/action/solidarity-make-bil
 lionaires-pay-march/\n\n*On September 20th\, we are rising up for our peop
 le and our planet. Will you join us?*\n\n**UPDATE: **Our bus will be leavi
 ng from South Station in Boston at 7 am! The bus will take us to New York 
 City\, where we will participate in the rally\, then the bus will bring us
  home to Boston by 10 pm. Tickets cost approx. $28\, and you can purchase 
 them here: [https://rally.co/make-billionaires-pay-nyc/from/south-station-
 boston-ma](https://rally.co/make-billionaires-pay-nyc/from/south-station-b
 oston-ma)\n\n**Context:** As the United States braces for extreme heat\, w
 ildfires\, and hurricanes\, the Trump administration just rammed through a
  mega-bill defunding our communities to give handouts to billionaires. The
 y’re dismantling our democracy\, attacking immigrants\, and feeding the 
 war profiteers. The attacks on our people are directly tied to the attacks
  on our planet.  War-making and genocide\, from Palestine to Sudan and the
  Congo\, is contrary to the just transition and repair of the Earth we dem
 and. The billionaire fascists are hoarding resources and leaving working c
 lass communities across the globe to face the impacts of extreme weather a
 nd rising seas\, while building walls and furthering their militarized res
 ponse to the climate crisis. \n\n**Among Trump's billionaire buddies\, a h
 andful of Big Oil & Gas executives are raking in profits while the rest of
  us pay the price of rising costs\, toxic pollution\, militarized repressi
 on and worsening climate disasters.**\n\nAll across the world\, authoritar
 ian regimes are on the rise but people are fighting back. We are uniting a
 cross the world to demand a better future for our communities and for all 
 living beings.\n\n**Demands:**\nShut down billionaires. Fund our future.\n
 Shut down fascists. Protect migrants and the global majority. \nShut down 
 polluters. Defend Mother Earth.\n\n**Strategy:**\nOn September 20th world 
 leaders will be gathering in New York City for the UN General Assembly and
  Climate Week. This is a critical moment for us to show the world we are r
 evolting against Trump and the Billionaire Class.\n\n**We’re calling for
  people across the US to join the non-violent resistance by hosting a marc
 h in their community or joining the march in New York City.** **Cities wit
 hin 300 miles\, including Boston\, are asked to send folks to join the New
  York march.** Here's the full partnership toolkit\, including social medi
 a drafts: [https://docs.google.com/document/d/1cLVX_ynh5ZWUFUwq8Z2pk8RZRTe
 NB9R7S_t8rsj-FeU/edit?usp=sharing](https://docs.google.com/document/d/1cLV
 X_ynh5ZWUFUwq8Z2pk8RZRTeNB9R7S_t8rsj-FeU/edit?usp=sharing)\n\nSimultaneous
  actions will happen around the world as part of the international mobiliz
 ations for climate justice entitled “Draw the Line” (convened by 350.o
 rg\, Demand Climate Justice\, Climate Action Network and War on Want). Lea
 rn more here: [https://www.makebillionairespay.us/](https://www.makebillio
 nairespay.us/)\n\n**Endorsement:**\nThe Make Billionaires Pay mobilization
  is being convened by: The Women’s March\, 350.org\, Desis Rising Up and
  Moving (DRUM)\, and Climate Defenders. It is endorsed by XR Boston.
LAST-MODIFIED:20250908T163454Z
LOCATION:Bus leaves from South Station\, Boston
ORGANIZER;CN="Extinction Rebellion Boston":MAILTO:outreach@xrboston.org
URL:https://xrboston.org/action/solidarity-make-billionaires-pay-march/
END:VEVENT
END:VCALENDAR
