BEGIN:VCALENDAR
VERSION:2.0
PRODID:-//Extinction Rebellion Boston//Action//
BEGIN:VEVENT
SUMMARY:[SOLIDARITY] Mass Poor People's Campaign -- Moral March to State H
 ouse
DTSTART:20240302T143000Z
DTEND:20240302T163000Z
DTSTAMP:20260425T165029Z
UID:1739@https://xrboston.org
CREATED:20260425T165029Z
DESCRIPTION:Event details: https://xrboston.org/action/solidarity-mass-poo
 r-peoples-campaign-march-2024/\n\nLet's join in solidarity with Massachuse
 tts' Poor People's Campaign for their day of nationally-coordinated simult
 aneous direct action in 31+ state capitals!\nMore information on the [Poor
  People's Campaign Website](https://www.poorpeoplescampaign.org/march2/)\n
 \nDetails and register at: bit.ly/mappcmarch2\n\nBoston Schedule:\n\n* 9:3
 0AM - gather at Old State House\n* 10:00AM - begin march to the Massachuse
 tts State House\n* 11:00AM - assembly at the 54th regiment memorial in Bos
 ton Common (across from the State House\, 24 Beacon St)\n\nTheir demands a
 re quoted below:\n\n* abolishing poverty as the 4th leading cause of death
  in the US \n* a living wage ($15+)\n* full voting rights \n* no more vote
 r suppression\n* worker’s rights & labor rights \n* healthcare for all \
 n* affordable\, adequate housing \n* and end to gun violence\, profit & pr
 oliferation \n* clean air & water \n* environmental justice \n* fully-fund
 ed public education\n* just immigration laws \n* an end to systemic racism
 \, white supremacy\, & the extremist political agenda \n* There are more t
 han 135 million poor and low-wage people in the nation\, rising back towar
 ds 140 million in 2019 because of ending Covid relief. \n\n*"We are buildi
 ng a Third Reconstruction by demanding a public policy agenda that fosters
  life\, not death."*
LAST-MODIFIED:20240219T005700Z
LOCATION:[Old State House - corner of State and Washington Streets](https:
 //www.google.com/maps/place/Old+State+House/@42.3587391\,-71.0600289\,17z/
 data=!3m1!4b1!4m6!3m5!1s0x89e370846859eb87:0xf8736bf385258dd7!8m2!3d42.358
 7352!4d-71.057454!16zL20vMDRfeG56?entry=ttu)
ORGANIZER;CN="Extinction Rebellion Boston":MAILTO:outreach@xrboston.org
URL:https://xrboston.org/action/solidarity-mass-poor-peoples-campaign-marc
 h-2024/
END:VEVENT
END:VCALENDAR
