BEGIN:VCALENDAR
VERSION:2.0
PRODID:-//Extinction Rebellion Boston//Action//
BEGIN:VEVENT
SUMMARY:[Solidarity] Movie Night: As If There Was No Tomorrow
DTSTART:20260409T234500Z
DTEND:20260410T014500Z
DTSTAMP:20260425T022548Z
UID:2245@https://xrboston.org
CREATED:20260425T022548Z
DESCRIPTION:Event details: https://xrboston.org/action/solidarity-movie-ni
 ght-as-if-there-was-no-tomorrow/\n\n**Please register via Eventbrite here:
  [https://tinyurl.com/Apr9-movienight](https://www.eventbrite.com/e/movie-
 night-as-if-there-was-no-tomorrow-italy-2025-tickets-1985067259610#locatio
 n)  \n**\n\nThis fast‑moving documentary offers an intimate look at youn
 g climate activists in Italy’s Last Generation movement. Following five 
 activists through their doubts\, hopes\, family conversations\, and encoun
 ters with the media and the police\, the film raises pressing questions ab
 out conscience\, nonviolence\, and what we are willing to risk when we fee
 l there is no time left to lose.  \n  \nThe evening will include:  \n7:45
 –8:05 pm – Pizza and light refreshments (including vegan options)  \n8
 :05–9:30 pm – Film screening (Italian with English subtitles)  \n9:30
 –10:00 pm – Q&A and conversation with XR own Parke Wilde and Fiamma St
 raneo  \n  \nThe event is free and open to the public.
LAST-MODIFIED:20260410T224555Z
LOCATION:[Harvard Yard\, Boylston Hall\, Fong Auditorium](https://www.goog
 le.com/maps/place/Boylston+Hall\,+1279+Massachusetts+Ave\,+Cambridge\,+MA+
 02138/@42.3733302\,-71.117289\,17z/data=!3m1!4b1!4m6!3m5!1s0x89e3774317472
 197:0xd9260799349c6d20!8m2!3d42.3733302!4d-71.117289!16s%2Fg%2F11gfgblns5?
 entry=ttu&g_ep=EgoyMDI2MDMzMC4wIKXMDSoASAFQAw%3D%3D)
ORGANIZER;CN="Extinction Rebellion Boston":MAILTO:outreach@xrboston.org
URL:https://xrboston.org/action/solidarity-movie-night-as-if-there-was-no-
 tomorrow/
END:VEVENT
END:VCALENDAR
