BEGIN:VCALENDAR
VERSION:2.0
PRODID:-//Extinction Rebellion Boston//Action//
BEGIN:VEVENT
SUMMARY:[SOLIDARITY] NO KINGS Boston
DTSTART:20251018T160000Z
DTEND:20251018T180000Z
DTSTAMP:20260421T213445Z
UID:2157@https://xrboston.org
CREATED:20260421T213445Z
DESCRIPTION:Event details: https://xrboston.org/action/solidarity-no-kings
 -boston/\n\n**In America\, we don’t put up with would-be kings.**\n\n**C
 ontext:** The ACLU-MA\, Indivisible Mass Coalition and Mass 50501 proudly 
 continue working together with allies and you to make our peaceful movemen
 t bigger and stronger! “NO KINGS” is more than just a slogan—it’s 
 the foundation our nation was built upon. Born in the streets\, carried by
  millions in chants and on posters\, it echoes from city blocks to rural t
 own squares\, uniting people across this country to fight dictatorship tog
 ether.\n\nThe president thinks his rule is absolute. But in America\, we d
 on’t have kings\, and we won’t back down against chaos\, corruption\, 
 and cruelty. Grow our movement and join us.\n\n[www.nokings.org/](https://
 www.nokings.org/)\n\n*A core principle behind all No Kings events is a com
 mitment to nonviolent action. We expect all participants to seek to de-esc
 alate any potential confrontation with those who disagree with our values 
 and to act lawfully at these events. Weapons of any kind\, including those
  legally permitted\, should not be brought to events.*
LAST-MODIFIED:20251010T033724Z
LOCATION:Beacon St & Charles St. Boston\, MA 02108
ORGANIZER;CN="Extinction Rebellion Boston":MAILTO:outreach@xrboston.org
URL:https://xrboston.org/action/solidarity-no-kings-boston/
END:VEVENT
END:VCALENDAR
