BEGIN:VCALENDAR
VERSION:2.0
PRODID:-//Extinction Rebellion Boston//Action//
BEGIN:VEVENT
SUMMARY:Solidarity Protest: Bans Off Our Bodies & Climate Justice Now!
DTSTART:20220514T160000Z
DTEND:20220514T180000Z
DTSTAMP:20260421T102913Z
UID:1188@https://xrboston.org
CREATED:20260421T102913Z
DESCRIPTION:Event details: https://xrboston.org/action/solidarity-protest-
 reproductive-rights/\n\nJoin XR Boston for an afternoon of solidarity acti
 on & protest against the leaked Roe v. Wade draft opinion from Justice Ali
 to and the attack on women's autonomy & reproductive rights! \n\nMembers o
 f XR Boston will be joining in solidarity at multiple rallies on Saturday 
 afternoon\, starting in Boston Common at Noon. Join us to rep the XR Hourg
 lass and to canvass our allies & comrades to build solidarity & momentum b
 etween our respective movements. \n\n12 - 2 PM: Boston Common—sponsored 
 by Planned Parenthood Advocacy Fund\, Reproductive Equity Now\, and ACLU\n
 \n2- 5 PM: Copley Square—#riseupforabortionrights\n\nIf you are only abl
 e to join for part of the afternoon\, feel free to text (515) 953 - 9152 o
 r conradorganizes@gmail.com to make a plan for meeting up.\n\nSolidarity\,
  love\, & rebellion.
LAST-MODIFIED:20220511T005029Z
LOCATION:Boston Common
ORGANIZER;CN="Extinction Rebellion Boston":MAILTO:outreach@xrboston.org
URL:https://xrboston.org/action/solidarity-protest-reproductive-rights/
END:VEVENT
END:VCALENDAR
